BEGIN:VCALENDAR
VERSION:2.0
PRODID:-//Event Kalender//DE
CALSCALE:GREGORIAN
METHOD:PUBLISH
BEGIN:VEVENT
UID:prec-1173@cos-cottbus.de
DTSTAMP:20260419T122704Z
CREATED:20260403T211602Z
LAST-MODIFIED:20260418T062632Z
DTSTART;VALUE=DATE:20260613
DTEND;VALUE=DATE:20260615
SUMMARY:Ostseesportspiele
DESCRIPTION:Ostseesportspiele 13.-14.06.2026 - Wir sind dabei! \\n\\n\\n\\nWir organisieren das 2. Ostseeanrainer-Beachvolleyball-Turnier und das Bocciaturnier \\n\\n\\n\\n&nbsp\\;
LOCATION:DE
URL:https://cos-cottbus.de/events/ostseesportspiele/
CLASS:PUBLIC
STATUS:CONFIRMED
END:VEVENT
END:VCALENDAR
