BEGIN:VCALENDAR
VERSION:2.0
PRODID:-//Event Kalender//DE
CALSCALE:GREGORIAN
METHOD:PUBLISH
BEGIN:VEVENT
UID:prec-1167@cos-cottbus.de
DTSTAMP:20260419T121553Z
CREATED:20260403T211318Z
LAST-MODIFIED:20260418T062613Z
DTSTART;TZID=Europe/Berlin:20260510T100000
DTEND;TZID=Europe/Berlin:20260510T235900
SUMMARY:Radwanderung
DESCRIPTION:4 Radwanderungen zu gleichen Bedingungen wie immer: (5€ Teilnahmegebühr und Treff 10 Uhr Parkplatz Sandower Dreieck)\\n\\n\\n\\n10.05.2026 zur Steinitzer Treppe\\n\\n\\n\\n31.05.2026 an Gräbendorfer See\\n\\n\\n\\n13.06.2026 Felixsee/Felicitas\\n\\n\\n\\n12.07.2026 Cottbuser Ostsee
LOCATION:DE
URL:https://cos-cottbus.de/events/radwanderung/
CLASS:PUBLIC
STATUS:CONFIRMED
END:VEVENT
END:VCALENDAR
