BEGIN:VCALENDAR
VERSION:2.0
PRODID:-//Event Kalender//DE
CALSCALE:GREGORIAN
METHOD:PUBLISH
BEGIN:VEVENT
UID:prec-1165@cos-cottbus.de
DTSTAMP:20260419T121935Z
CREATED:20260403T211049Z
LAST-MODIFIED:20260418T062628Z
DTSTART;TZID=Europe/Berlin:20260512T180000
DTEND;TZID=Europe/Berlin:20260512T235900
SUMMARY:Jahreshauptversammlung
DESCRIPTION:Jahreshauptversammlung am 12.05.2026 um 18 Uhr beim RK Endspurt 1909 e.V. 
LOCATION:DE
URL:https://cos-cottbus.de/events/jahreshauptversammlung/
CLASS:PUBLIC
STATUS:CONFIRMED
END:VEVENT
END:VCALENDAR
